BEGIN:VCALENDAR
VERSION:2.0
CALSCALE:GREGORIAN
PRODID:-//MyApp//Calendar 1.0//EN
BEGIN:VEVENT
METHOD:PUBLISH
UID:9277@regionalniportaly.cz
DTSTAMP:20260419T130919Z
DTSTART;VALUE=DATE:20170319
DTEND;VALUE=DATE:20170320
SUMMARY:Naučná stezka OBORA
DESCRIPTION:V neděli 19.3. ve 14.00 hod. se otevírá naučná stezka!!!\n\nPojďte s námi na příjemnou procházku i za poznáním.\nDélka trasy je cca 4 km\, může být i kratší varianta.\nTrasa není vhodná pro kočárky\, miminka vezměte do šátků či nosítek.\nNa stezce na Vás budou čekat různé úkoly s překvapením…\nSejdeme se u rybníčku v Oboře na Zbýšovské ulici a třeba na nás nakoukne i místní vodník…\nPo procházce se můžete těšit na malé občerstvení\, opečeme si buřtíky.\nS sebou vhodné oblečení a pevnou obuv.
LOCATION:Rosice
END:VEVENT
END:VCALENDAR