BEGIN:VCALENDAR
VERSION:2.0
CALSCALE:GREGORIAN
PRODID:-//MyApp//Calendar 1.0//EN
BEGIN:VEVENT
METHOD:PUBLISH
UID:8768@regionalniportaly.cz
DTSTAMP:20260424T202426Z
DTSTART;VALUE=DATE:20170128
DTEND;VALUE=DATE:20170129
SUMMARY:Obecní ples
DESCRIPTION:
LOCATION:Ostrovačice
END:VEVENT
END:VCALENDAR