BEGIN:VCALENDAR
VERSION:2.0
CALSCALE:GREGORIAN
PRODID:-//MyApp//Calendar 1.0//EN
BEGIN:VEVENT
METHOD:PUBLISH
UID:8673@regionalniportaly.cz
DTSTAMP:20260424T202356Z
DTSTART;VALUE=DATE:20170114
DTEND;VALUE=DATE:20170115
SUMMARY:Hasičský ples
DESCRIPTION:
LOCATION:Rosice
END:VEVENT
END:VCALENDAR