BEGIN:VCALENDAR
VERSION:2.0
CALSCALE:GREGORIAN
PRODID:-//MyApp//Calendar 1.0//EN
BEGIN:VEVENT
METHOD:PUBLISH
UID:65824@regionalniportaly.cz
DTSTAMP:20260423T143613Z
DTSTART;VALUE=DATE:20260519
DTEND;VALUE=DATE:20260520
SUMMARY:Funkční trénink pro rodiče s dětmi
DESCRIPTION:Pojďte dát své tělo do formy!\nNebo si potřebujete pohybem vyčistit hlavu a trochu se zapotit? \nLekce se konají každé úterý dopoledne a děti můžete vzít na lekci s sebou.
LOCATION:Rosice
END:VEVENT
END:VCALENDAR