BEGIN:VCALENDAR
VERSION:2.0
CALSCALE:GREGORIAN
PRODID:-//MyApp//Calendar 1.0//EN
BEGIN:VEVENT
METHOD:PUBLISH
UID:65819@regionalniportaly.cz
DTSTAMP:20260423T140046Z
DTSTART;VALUE=DATE:20260524
DTEND;VALUE=DATE:20260525
SUMMARY:Dětská tvořivá dílna - Potkáme se s čápy
DESCRIPTION:Přiletěli čápi! \nPojďme si je společně vyrobit. Tvořivá dílna je vhodná pro děti od cca 2 let s dorpovodem.
LOCATION:Rosice
END:VEVENT
END:VCALENDAR