BEGIN:VCALENDAR
VERSION:2.0
CALSCALE:GREGORIAN
PRODID:-//MyApp//Calendar 1.0//EN
BEGIN:VEVENT
METHOD:PUBLISH
UID:65815@regionalniportaly.cz
DTSTAMP:20260423T120419Z
DTSTART;VALUE=DATE:20260602
DTEND;VALUE=DATE:20260603
SUMMARY:Středověká cesta zámeckým parkem pro děti
DESCRIPTION:Přijďte s dětmi prožít odpoledne plné dobrodružství\, her a fantazie! SVČ Rubiko vás zve na Den dětí – Středověkou stezku parkem\, která se uskuteční 2. června 2026 od 15:00 do 18:00 v parku za SVČ Rubiko.\nNa malé i větší návštěvníky čeká zábavná stezka inspirovaná středověkem – děti si vyzkouší různé úkoly\, soutěže a dovednosti\, potkají princezny i rytíře a za splněné výzvy je nemine zasloužená odměna. Celé odpoledne se ponese v hravém duchu\, který děti vtáhne do světa dávných časů.\nAkce je ideální pro rodiny s dětmi\, které chtějí společně strávit čas venku a užít si netradiční program.\nNebojte se ani případného zhoršení počasí – k dispozici bude zázemí ve formě párty stanů\, takže si akci užijete za každých podmínek.\nVstup je zdarma.\nPřijďte si užít den plný zábavy\, smíchu a malých dobrodružství!   
LOCATION:Rosice
END:VEVENT
END:VCALENDAR