BEGIN:VCALENDAR
VERSION:2.0
CALSCALE:GREGORIAN
PRODID:-//MyApp//Calendar 1.0//EN
BEGIN:VEVENT
METHOD:PUBLISH
UID:65719@regionalniportaly.cz
DTSTAMP:20260421T131041Z
DTSTART;VALUE=DATE:20260505
DTEND;VALUE=DATE:20261110
SUMMARY:Cvičení pro seniory
DESCRIPTION:Každotýdenní cvičení pro seniory zdarma v Dolních Kounicích!
LOCATION:Dolní Kounice
END:VEVENT
END:VCALENDAR