BEGIN:VCALENDAR
VERSION:2.0
CALSCALE:GREGORIAN
PRODID:-//MyApp//Calendar 1.0//EN
BEGIN:VEVENT
METHOD:PUBLISH
UID:65706@regionalniportaly.cz
DTSTAMP:20260421T062823Z
DTSTART;VALUE=DATE:20261101
DTEND;VALUE=DATE:20261102
SUMMARY:Pyšná princezna
DESCRIPTION:Dorazí k nám Divadlo Brodway!&nbsp\;Co Vás čeká:• Chytlavé písně a barevně hravá podívaná – zpíváme naživo\, což dělá celý zážitek ještě intenzivnější a nezapomenutelný• Groteskní situace a humor pro děti i dospělé• Poselství\, že dobro má vždy poslední slovo&nbsp\;&nbsp\;Účinkují: Vilemína Marhoulová\, Ondřej Bábor\, Aleš Ondřej\, Braňo Polák\, Lucia Jagerčíková Nývltová\, Jan Jakub Šenkeřík\, Milan MalinovskyVstupné : 390\,-Kč\, děti do 2 let bez nároku na sedadlo zdarma
LOCATION:Zbýšov
END:VEVENT
END:VCALENDAR