BEGIN:VCALENDAR
VERSION:2.0
CALSCALE:GREGORIAN
PRODID:-//MyApp//Calendar 1.0//EN
BEGIN:VEVENT
METHOD:PUBLISH
UID:65702@regionalniportaly.cz
DTSTAMP:20260421T063752Z
DTSTART;VALUE=DATE:20260422
DTEND;VALUE=DATE:20260423
SUMMARY:Michael
DESCRIPTION:Zrození legendyFilmový portrét člověka\, který byl pro mnohé nezpochybnitelnou hudební ikonou. Díky producentovi filmu Bohemian Rhapsody získají diváci šanci prožít zrození legendy Michaela Jacksona.Režie: Antoine Fuquatitulky\,&nbsp\;125 minut
LOCATION:Zbýšov
END:VEVENT
END:VCALENDAR