BEGIN:VCALENDAR
VERSION:2.0
CALSCALE:GREGORIAN
PRODID:-//MyApp//Calendar 1.0//EN
BEGIN:VEVENT
METHOD:PUBLISH
UID:65700@regionalniportaly.cz
DTSTAMP:20260421T064118Z
DTSTART;VALUE=DATE:20260422
DTEND;VALUE=DATE:20260423
SUMMARY:Lojza\, Pepa: Žíznivé dobrodružství
DESCRIPTION:Zatímco ostatní hmyz hledá řešení\, dva popletení kamarádi Lojza a Pepa se rozhodnou pomoci po svém. I když jsou trochu nešikovní a všechno jim tak trochu padá z rukou (i z tykadel)\, mají hlavu plnou bláznivých nápadů.dabováno\,&nbsp\;75 minut
LOCATION:Zbýšov
END:VEVENT
END:VCALENDAR