BEGIN:VCALENDAR
VERSION:2.0
CALSCALE:GREGORIAN
PRODID:-//MyApp//Calendar 1.0//EN
BEGIN:VEVENT
METHOD:PUBLISH
UID:65673@regionalniportaly.cz
DTSTAMP:20260420T144838Z
DTSTART;VALUE=DATE:20260429
DTEND;VALUE=DATE:20260430
SUMMARY:Motoexpedice skrz Nepál
DESCRIPTION:Příběh o partě chlapů\, kteří vyměnili pohodlí domova za prach nepálských cest\, sedla legendárních motocyklů Royal Enfield a kyslíkový dluh v sedlech Himálaje. Cesta tam\, kde asfalt končí a opravdové dobrodružství teprve začíná.“Přednáška s Martinem Svobodou\, vstup volný.
LOCATION:Zastávka
END:VEVENT
END:VCALENDAR