BEGIN:VCALENDAR
VERSION:2.0
CALSCALE:GREGORIAN
PRODID:-//MyApp//Calendar 1.0//EN
BEGIN:VEVENT
METHOD:PUBLISH
UID:65672@regionalniportaly.cz
DTSTAMP:20260420T152621Z
DTSTART;VALUE=DATE:20260427
DTEND;VALUE=DATE:20260428
SUMMARY:Bezplatná právní poradna
DESCRIPTION:Máte otázky z rodinného nebo pracovního práva? Nemusíte být na to sami. Stačí se zeptat – za otázku nic nedáte.
LOCATION:Rosice
END:VEVENT
END:VCALENDAR