BEGIN:VCALENDAR
VERSION:2.0
CALSCALE:GREGORIAN
PRODID:-//MyApp//Calendar 1.0//EN
BEGIN:VEVENT
METHOD:PUBLISH
UID:64031@regionalniportaly.cz
DTSTAMP:20260422T055828Z
DTSTART;VALUE=DATE:20260320
DTEND;VALUE=DATE:20260321
SUMMARY:Pročtená herna
DESCRIPTION:Přijďte s dětmi do Kašpárkovské herny\, čeká nás společné čtení s aktivitami a inspirativní tipy nejen na dětské knihy.
LOCATION:Rosice
END:VEVENT
END:VCALENDAR