BEGIN:VCALENDAR
VERSION:2.0
CALSCALE:GREGORIAN
PRODID:-//MyApp//Calendar 1.0//EN
BEGIN:VEVENT
METHOD:PUBLISH
UID:63964@regionalniportaly.cz
DTSTAMP:20260424T124512Z
DTSTART;VALUE=DATE:20260318
DTEND;VALUE=DATE:20260319
SUMMARY:Mužsko - ženský kruh na téma TÁTA
DESCRIPTION:TÁTA.Pro někoho opora.Pro někoho ticho.Pro někoho bolest.Pro někoho síla\, která chyběla.\nAť už byl jakýkoli\, jeho otisk v nás zůstává.\nV tom\, jak se rozhodujeme.Jak ustojíme konflikt.Jak se odevzdáváme ve vztazích.Nebo jak se držíme pod kontrolou.\nZveme vás na mužsko-ženský kruh na téma TÁTA\, kde se podíváme na to\, co v nás stále žije a co už můžeme pustit.\n🌀 Bez tlaku.🌀 Bez povinnosti mluvit.🌀 V bezpečí a respektu mezi mužem a ženou.\n📍 18. 3. | Rosice u Brna⏰ 17:30–19:30💰 400 Kč\n👉 Místa jsou omezená – rezervace v odkazuhttps://katerinasilarova.cz/kruhova-sdileni/\n— Katy &amp\; Robert
LOCATION:Rosice
END:VEVENT
END:VCALENDAR