BEGIN:VCALENDAR
VERSION:2.0
CALSCALE:GREGORIAN
PRODID:-//MyApp//Calendar 1.0//EN
BEGIN:VEVENT
METHOD:PUBLISH
UID:63611@regionalniportaly.cz
DTSTAMP:20260424T124728Z
DTSTART;VALUE=DATE:20260318
DTEND;VALUE=DATE:20260319
SUMMARY:Beseda - Jak předat své dceři téma ženskosti
DESCRIPTION:Beseda pro mámy\, které chtějí připravit svou dceru na cykličnost s laskavostí a porozuměním. 
LOCATION:Rosice
END:VEVENT
END:VCALENDAR