BEGIN:VCALENDAR
VERSION:2.0
CALSCALE:GREGORIAN
PRODID:-//MyApp//Calendar 1.0//EN
BEGIN:VEVENT
METHOD:PUBLISH
UID:63601@regionalniportaly.cz
DTSTAMP:20260422T104232Z
DTSTART;VALUE=DATE:20260321
DTEND;VALUE=DATE:20260322
SUMMARY:Pohádka - Tajemství vodníka Loučky
DESCRIPTION:Pohádka\, jako odměna pro děti\, v rámci akce Ukliďme Rosice se odehraje u jurty LK Přeslička.\n 
LOCATION:Rosice
END:VEVENT
END:VCALENDAR