BEGIN:VCALENDAR
VERSION:2.0
CALSCALE:GREGORIAN
PRODID:-//MyApp//Calendar 1.0//EN
BEGIN:VEVENT
METHOD:PUBLISH
UID:63600@regionalniportaly.cz
DTSTAMP:20260424T123631Z
DTSTART;VALUE=DATE:20260314
DTEND;VALUE=DATE:20260315
SUMMARY:Dětská tvořivá dílna - jarní
DESCRIPTION:Přivítáme jaro tvořivě a vesele.\nTvořivé dopoledne v Kašpárkovské herně pro děti od 2 let s doprovodem.
LOCATION:Rosice
END:VEVENT
END:VCALENDAR