BEGIN:VCALENDAR
VERSION:2.0
CALSCALE:GREGORIAN
PRODID:-//MyApp//Calendar 1.0//EN
BEGIN:VEVENT
METHOD:PUBLISH
UID:63598@regionalniportaly.cz
DTSTAMP:20260422T104350Z
DTSTART;VALUE=DATE:20260307
DTEND;VALUE=DATE:20260308
SUMMARY:Vláčková herna
DESCRIPTION:Spousta kolejí\, tunelů a mostů. Můžete přinést svou oblíbenou mašinku a zkusit postavit úplné vláčkové město. 
LOCATION:Rosice
END:VEVENT
END:VCALENDAR