BEGIN:VCALENDAR
VERSION:2.0
CALSCALE:GREGORIAN
PRODID:-//MyApp//Calendar 1.0//EN
BEGIN:VEVENT
METHOD:PUBLISH
UID:63486@regionalniportaly.cz
DTSTAMP:20260422T120938Z
DTSTART;VALUE=DATE:20260220
DTEND;VALUE=DATE:20260221
SUMMARY:Bouřlivé výšiny
DESCRIPTION:
LOCATION:Zbýšov
END:VEVENT
END:VCALENDAR