BEGIN:VCALENDAR
VERSION:2.0
CALSCALE:GREGORIAN
PRODID:-//MyApp//Calendar 1.0//EN
BEGIN:VEVENT
METHOD:PUBLISH
UID:62862@regionalniportaly.cz
DTSTAMP:20260422T104236Z
DTSTART;VALUE=DATE:20260226
DTEND;VALUE=DATE:20260301
SUMMARY:Pozvánka na ženský mini retreat pro 7 žen v Jeseníkách
DESCRIPTION:Pozvánka na ženský mini retreat pro 7 ženZ lásky k sobě | JeseníkyŽeno\, srdečně tě zvu na prožitkový ženský mini retreat Z lásky k sobě\, který se uskuteční v tichu a síle přírody Jeseníků.Čtyři dny zpomalení\, návratu k sobě\, sdílení v kruhu žen a hlubokých prožitků\, které se odehrávají v bezpečí\, laskavosti a respektu k vlastním hranicím.Součástí retreatu budou ženské kruhy\, práce s tělem a emocemi\, meditace\, pobyt v přírodě i venkovní rituál - vědomý prostor\, kde můžeš pustit to\, co už nechceš nést\, a dovolit si důvěřovat.Retreat je určen pro malou skupinu žen\, které cítí\, že je čas se zastavit\, nadechnout a být samy sebou.26.2. - 1.3. 2026Chata Paleska\, JeseníkyPoslední volná místaPokud cítíš volání\, možná právě tento prostor čeká na tebe. ♡Přihlášení: https://katerinasilarova.cz/pobyty-retreaty-setkani/Moc se těším na společné prožitky.Katy
LOCATION:Rosice
END:VEVENT
END:VCALENDAR