BEGIN:VCALENDAR
VERSION:2.0
CALSCALE:GREGORIAN
PRODID:-//MyApp//Calendar 1.0//EN
BEGIN:VEVENT
METHOD:PUBLISH
UID:62621@regionalniportaly.cz
DTSTAMP:20260424T105116Z
DTSTART;VALUE=DATE:20260228
DTEND;VALUE=DATE:20260301
SUMMARY:Dětská tvořivá dílna - veselý klaun
DESCRIPTION:Máte tvořivé dítě\, ale chybí vám nápady\, čas v každodenním shonu a chuť uklízet tu spoušť? Přijďte za Anetou\, která se o všechno postará a vy si užijte společné kreativní sobotní dopoledne v Kašpárkovské herně.\nVhodné pro děti od 2 let s doprovodem
LOCATION:Rosice
END:VEVENT
END:VCALENDAR