BEGIN:VCALENDAR
VERSION:2.0
CALSCALE:GREGORIAN
PRODID:-//MyApp//Calendar 1.0//EN
BEGIN:VEVENT
METHOD:PUBLISH
UID:62620@regionalniportaly.cz
DTSTAMP:20260422T155928Z
DTSTART;VALUE=DATE:20260302
DTEND;VALUE=DATE:20260303
SUMMARY:Bezplatná právní poradna
DESCRIPTION:Cílem poradny je nabídnout pomoc převážně v oblasti rodinného a pracovního práva tak\, aby klienti získali základní přehled o svých právech\, povinnostech a možnostech dalšího postupu.
LOCATION:Rosice
END:VEVENT
END:VCALENDAR