BEGIN:VCALENDAR
VERSION:2.0
CALSCALE:GREGORIAN
PRODID:-//MyApp//Calendar 1.0//EN
BEGIN:VEVENT
METHOD:PUBLISH
UID:62264@regionalniportaly.cz
DTSTAMP:20260422T105233Z
DTSTART;VALUE=DATE:20260123
DTEND;VALUE=DATE:20260124
SUMMARY:Vejce na ledu: Polární záchrana
DESCRIPTION:Když se na slepičí farmě jednoho dne objeví neobvyklí návštěvníci - trojice tučňáků a malé lední medvídě\, místní zvířata musí spojit síly\, aby novým kamarádům pomohla najít cestu zpátky domů. Kohout jménem Toto se proto se svou rodinou vydá na bláznivou cestu až na samotný jižní pól. Čeká je cesta plná potrhlých kosatek\, pirátů\, rozzuřených tuleňů i surfujících tučňáků. Na konci světa však nenajdou jen rodinu malého medvíděte\, ale i dobrodružství\, které dokáže\, že společně zvládnou úplně všechno.
LOCATION:Zbýšov
END:VEVENT
END:VCALENDAR