BEGIN:VCALENDAR
VERSION:2.0
CALSCALE:GREGORIAN
PRODID:-//MyApp//Calendar 1.0//EN
BEGIN:VEVENT
METHOD:PUBLISH
UID:62160@regionalniportaly.cz
DTSTAMP:20260424T135213Z
DTSTART;VALUE=DATE:20260214
DTEND;VALUE=DATE:20260215
SUMMARY:Únorové deskohraní s hlídáním dětí
DESCRIPTION:Manželské/partnerské deskovky s hlídáním dětí v herně\nZveme vás na valentýnské odpoledne plné deskových her. Čeká vás prostor pro společnou hru\, rozhovory i obyčejné bytí spolu. Žádné povinnosti\, žádné vyrušování – jen vy dva.\nO deskovky ve velkém sále ZKC se postará Deskoherní klub Rosnička a děti pohlídá v herně hlídací teta (a možná bude i kino).      
LOCATION:Rosice
END:VEVENT
END:VCALENDAR