BEGIN:VCALENDAR
VERSION:2.0
CALSCALE:GREGORIAN
PRODID:-//MyApp//Calendar 1.0//EN
BEGIN:VEVENT
METHOD:PUBLISH
UID:62131@regionalniportaly.cz
DTSTAMP:20260422T160743Z
DTSTART;VALUE=DATE:20260206
DTEND;VALUE=DATE:20260207
SUMMARY:Jägermeister ChillPoint Morava tour 1 - Rosice
DESCRIPTION:Bude pro vás&nbsp\;připraven večer s&nbsp\;nezapomenutelnou atmosférou a širokou paletou nadstandardních služeb.
LOCATION:Rosice
END:VEVENT
END:VCALENDAR