BEGIN:VCALENDAR
VERSION:2.0
CALSCALE:GREGORIAN
PRODID:-//MyApp//Calendar 1.0//EN
BEGIN:VEVENT
METHOD:PUBLISH
UID:62085@regionalniportaly.cz
DTSTAMP:20260422T121543Z
DTSTART;VALUE=DATE:20260213
DTEND;VALUE=DATE:20260214
SUMMARY:Krysáci a zamilovaný Eda
DESCRIPTION:
LOCATION:Zbýšov
END:VEVENT
END:VCALENDAR