BEGIN:VCALENDAR
VERSION:2.0
CALSCALE:GREGORIAN
PRODID:-//MyApp//Calendar 1.0//EN
BEGIN:VEVENT
METHOD:PUBLISH
UID:62084@regionalniportaly.cz
DTSTAMP:20260422T142347Z
DTSTART;VALUE=DATE:20260116
DTEND;VALUE=DATE:20260117
SUMMARY:Domácí příšerky 2
DESCRIPTION:
LOCATION:Zbýšov
END:VEVENT
END:VCALENDAR