BEGIN:VCALENDAR
VERSION:2.0
CALSCALE:GREGORIAN
PRODID:-//MyApp//Calendar 1.0//EN
BEGIN:VEVENT
METHOD:PUBLISH
UID:61985@regionalniportaly.cz
DTSTAMP:20260424T123454Z
DTSTART;VALUE=DATE:20260122
DTEND;VALUE=DATE:20260123
SUMMARY:Zdravotní cvičení pro ženy
DESCRIPTION:Rády byste daly do pořádku střed těla? Zvu vás na lekce\, kde pracujeme na zacelení diastázy\, pružnosti pánevního dna\, na naší psychické pohodě. Dopolední lekce jsou vhodné v přítomnosti dětí\, večerní lekce probíhají bez dětí. \nTěším se na vás\, Ivka Horňáková\, lektorka Školy pánevního dna a porodní asistentka
LOCATION:Rosice
END:VEVENT
END:VCALENDAR