BEGIN:VCALENDAR
VERSION:2.0
CALSCALE:GREGORIAN
PRODID:-//MyApp//Calendar 1.0//EN
BEGIN:VEVENT
METHOD:PUBLISH
UID:61984@regionalniportaly.cz
DTSTAMP:20260424T111626Z
DTSTART;VALUE=DATE:20260122
DTEND;VALUE=DATE:20260123
SUMMARY:Těhotenské cvičení
DESCRIPTION:Jste těhotná a chcete se fyzicky i psychicky připravit na porod? Být v těhotenství fit? \nPřijďte si zacvičit pod vedením porodní asistentky! Těším se na vás\, Ivka Horňáková
LOCATION:Rosice
END:VEVENT
END:VCALENDAR