BEGIN:VCALENDAR
VERSION:2.0
CALSCALE:GREGORIAN
PRODID:-//MyApp//Calendar 1.0//EN
BEGIN:VEVENT
METHOD:PUBLISH
UID:61972@regionalniportaly.cz
DTSTAMP:20260424T095206Z
DTSTART;VALUE=DATE:20260211
DTEND;VALUE=DATE:20260212
SUMMARY:Muzicírování s paní Zimou
DESCRIPTION:Hudebně tvořivý program pro školkové děti bez rodičů.
LOCATION:Rosice
END:VEVENT
END:VCALENDAR