BEGIN:VCALENDAR
VERSION:2.0
CALSCALE:GREGORIAN
PRODID:-//MyApp//Calendar 1.0//EN
BEGIN:VEVENT
METHOD:PUBLISH
UID:61960@regionalniportaly.cz
DTSTAMP:20260424T170306Z
DTSTART;VALUE=DATE:20260212
DTEND;VALUE=DATE:20260213
SUMMARY:Volné cvičení v tělocvičně ZŠ
DESCRIPTION:Spousta místa na běhání\, skákání\, kotouly... Přijďte si dětmi vypustit přebytečnou energii do tělocvičny ZŠ Rosice
LOCATION:Rosice
END:VEVENT
END:VCALENDAR