BEGIN:VCALENDAR
VERSION:2.0
CALSCALE:GREGORIAN
PRODID:-//MyApp//Calendar 1.0//EN
BEGIN:VEVENT
METHOD:PUBLISH
UID:61958@regionalniportaly.cz
DTSTAMP:20260422T123119Z
DTSTART;VALUE=DATE:20260123
DTEND;VALUE=DATE:20260124
SUMMARY:Tvořivá dílna - keramika
DESCRIPTION:Čeká nás relaxace při práci s hlínou. \nNa začátku bude hrouda hlíny a na konci hrnek\, miska\, jmenovka na dveře...\, které se nemusíte bát používat.
LOCATION:Rosice
END:VEVENT
END:VCALENDAR