BEGIN:VCALENDAR
VERSION:2.0
CALSCALE:GREGORIAN
PRODID:-//MyApp//Calendar 1.0//EN
BEGIN:VEVENT
METHOD:PUBLISH
UID:61861@regionalniportaly.cz
DTSTAMP:20260424T091909Z
DTSTART;VALUE=DATE:20260216
DTEND;VALUE=DATE:20260220
SUMMARY:Narnie - jarní příměstský tábor
DESCRIPTION:Otevři tajemnou skříň a vstup do světa mluvících zvířat a nečekaných výzev! Čeká tě týden týmových her a objevování skrytých tajemství Narnie.\n \ntermín: 16. - 20. února 2026místo: SVČ Rubiko Rosicečas: od 8 do 16 hodinpro koho: děti od 7 do 11 letcena: 2 600 Kčv ceně zahrnuto: program\, pedagogický dozor\, obědy\, pitný režimgarant tábora: Lucie Maděránková\, maderankova@svcrosice.czpřihlašování: Klientské centrum
LOCATION:Rosice
END:VEVENT
END:VCALENDAR