BEGIN:VCALENDAR
VERSION:2.0
CALSCALE:GREGORIAN
PRODID:-//MyApp//Calendar 1.0//EN
BEGIN:VEVENT
METHOD:PUBLISH
UID:61842@regionalniportaly.cz
DTSTAMP:20260422T123012Z
DTSTART;VALUE=DATE:20260206
DTEND;VALUE=DATE:20260207
SUMMARY:XXVI. Reprezentační ples města Oslavany
DESCRIPTION:K tanci a poslechu hraje skupina Kolorez\, moderuje Dušan Binka\, v baru diskotéka s DJ Maláškem\, ukázky standardních a latinskoamerických tanců.&nbsp\;V průběhu večera&nbsp\; vystoupí muzikálový zpěvak Jan Kříž.&nbsp\;&nbsp\;
LOCATION:Oslavany
END:VEVENT
END:VCALENDAR