BEGIN:VCALENDAR
VERSION:2.0
CALSCALE:GREGORIAN
PRODID:-//MyApp//Calendar 1.0//EN
BEGIN:VEVENT
METHOD:PUBLISH
UID:61702@regionalniportaly.cz
DTSTAMP:20260424T111400Z
DTSTART;VALUE=DATE:20260214
DTEND;VALUE=DATE:20260215
SUMMARY:workshop: „Už nechci být hodná holka“
DESCRIPTION:Celodenní prožitkový workshop pro ženyTaky jsem byla hodnou holkou. A v určitém momentu života jsem si všimla\, že už jí nechci být.\nZtrácela jsem se v ní. Jednala jsem spíš podle toho\, co ode mě očekávali druzí\, než podle toho\, co jsem cítila já.\nTenhle workshop je pozvánkou ke dni\, kdy se můžeš skrze prožitek\, tvoření a rodinné konstelace podívat na to\, odkud se v tobě bere „hodná holka“ a jaké to je\, když už nemusíš jít proti sobě.Vytvoříš si možnost vidět\, cítit a porozumět tomu\, jak to v sobě máš.\n  Co tě čeká?• prožitková práce s tématem hodné holky• rodinné konstelace a náhledy do souvislostí• tvoření jako způsob uvědomění kým jsi byla\, jak se dostat blíž k sobě a jaká chceš být• bezpečný ženský kruh\, ticho i sdílení\n  Kdy: 14. 2. 2026  Čas: 10:00 – 17:00  Kde: Rahmův palác\, Palackého nám. 46  Cena: 1 500 Kč  Kapacita: max. 10 žen\n  Více informací a přihlášení najdeš zde:https://katerinasilarova.cz/workshop/\nTěším se na společný den.Katy ♡
LOCATION:Rosice
END:VEVENT
END:VCALENDAR