BEGIN:VCALENDAR
VERSION:2.0
CALSCALE:GREGORIAN
PRODID:-//MyApp//Calendar 1.0//EN
BEGIN:VEVENT
METHOD:PUBLISH
UID:61601@regionalniportaly.cz
DTSTAMP:20260425T162824Z
DTSTART;VALUE=DATE:20260312
DTEND;VALUE=DATE:20260313
SUMMARY:Divadelní představení Changewyx
DESCRIPTION:Divadelní představení Changewyx popisuje silný příběh\, kde diváci 3x hlasují o dalším ději.&nbsp\;Představení je vhodné jak pro děti \, studenty tak i dospělé.
LOCATION:Říčany
END:VEVENT
END:VCALENDAR