BEGIN:VCALENDAR
VERSION:2.0
CALSCALE:GREGORIAN
PRODID:-//MyApp//Calendar 1.0//EN
BEGIN:VEVENT
METHOD:PUBLISH
UID:61578@regionalniportaly.cz
DTSTAMP:20260422T161754Z
DTSTART;VALUE=DATE:20260131
DTEND;VALUE=DATE:20260201
SUMMARY:31.1.2026 Rodinné systemické konstelace v Rosicích u Brna
DESCRIPTION:Rodinné systemické konstelace v Rosicích u Brna\nJsou věci\, které se v životě opakují.Ve vztazích. V těle. V pocitu\, že „něco je pořád stejné“\, i když se snažíme jinak.\nMožná si kladeš otázky:Proč na mě některé situace reagují tak silně?Proč mě něco drží zpátky\, i když rozum už dávno chápe?\nRodinné konstelace nejdou přes vysvětlování.Jdou přes prožitek. Přes tělo. Přes vztahové pole\, ve kterém se může ukázat to\, co bylo dlouho skryté – a uvolnit se.\n👉 Můžeš si postavit vlastní konstelaci.👉 Nebo být zástupcem a přesto se dotknout důležitých témat svého života.\nPostavíme 8 konstelací.Pracujeme v menší skupině\, s respektem\, pomalostí a důrazem na bezpečný prostor.\n—📅 Sobota 31. ledna 2026 | 10:00–19:30📍 Rosice u Brna – Rahnův dům (Palackého náměstí 46)🎟 Cena: 1 400 Kč (stavění vlastní konstelace) / 1 000 Kč (účast jako zástupce)✨ Kapacita omezena\n📩 Přihlášení a více informací: katerinasilarova.cz/rodinne-konstelace\nTěším se na setkání\,\nKatyRodinné konstelace | Ženské a smíšené kruhy | NLP | Skupinová práce | Práce s emocemi
LOCATION:Rosice
END:VEVENT
END:VCALENDAR