BEGIN:VCALENDAR
VERSION:2.0
CALSCALE:GREGORIAN
PRODID:-//MyApp//Calendar 1.0//EN
BEGIN:VEVENT
METHOD:PUBLISH
UID:61119@regionalniportaly.cz
DTSTAMP:20260424T095250Z
DTSTART;VALUE=DATE:20260128
DTEND;VALUE=DATE:20260129
SUMMARY:Beseda - DIGIDĚTI
DESCRIPTION:Děti a digitální technologie - stále aktuálnější téma ve všech rodinách\nBeseda plná rad pro život digidětí a jejich rodičů.\nJak k technologiím přistupovat v předškolním a jak ve školním věku? Kdy koupit dítěti telefon\, kdy jej nechat s počítačem o samotě\, kdy mu dovolit přístup na Internet?\nCo můžeme udělat pro jejich bezpečnost a vlastní klid?\nSetkání je velmi interaktivní\, neboť jeho smyslem je zodpovědět cokoli\, co zajímá příchozí.
LOCATION:Rosice
END:VEVENT
END:VCALENDAR