BEGIN:VCALENDAR
VERSION:2.0
CALSCALE:GREGORIAN
PRODID:-//MyApp//Calendar 1.0//EN
BEGIN:VEVENT
METHOD:PUBLISH
UID:61118@regionalniportaly.cz
DTSTAMP:20260424T111600Z
DTSTART;VALUE=DATE:20260124
DTEND;VALUE=DATE:20260125
SUMMARY:Vláčková herna
DESCRIPTION:V Kašpárkovské herně společně postavíme obří kolejiště (ikea/lidl) s velkým množstvím tunelů\, mostů\, přejezdů... 
LOCATION:Rosice
END:VEVENT
END:VCALENDAR