BEGIN:VCALENDAR
VERSION:2.0
CALSCALE:GREGORIAN
PRODID:-//MyApp//Calendar 1.0//EN
BEGIN:VEVENT
METHOD:PUBLISH
UID:61117@regionalniportaly.cz
DTSTAMP:20260424T095319Z
DTSTART;VALUE=DATE:20260126
DTEND;VALUE=DATE:20260127
SUMMARY:Bezplatná právní poradna
DESCRIPTION:Přijďte probrat vaše problémy s právničkou.
LOCATION:Rosice
END:VEVENT
END:VCALENDAR