BEGIN:VCALENDAR
VERSION:2.0
CALSCALE:GREGORIAN
PRODID:-//MyApp//Calendar 1.0//EN
BEGIN:VEVENT
METHOD:PUBLISH
UID:61115@regionalniportaly.cz
DTSTAMP:20260424T111550Z
DTSTART;VALUE=DATE:20260117
DTEND;VALUE=DATE:20260118
SUMMARY:Dětská tvořivá dílna - zimní
DESCRIPTION:Tentokrát bude naší inspirací paní zima.
LOCATION:Rosice
END:VEVENT
END:VCALENDAR