BEGIN:VCALENDAR
VERSION:2.0
CALSCALE:GREGORIAN
PRODID:-//MyApp//Calendar 1.0//EN
BEGIN:VEVENT
METHOD:PUBLISH
UID:61114@regionalniportaly.cz
DTSTAMP:20260422T161600Z
DTSTART;VALUE=DATE:20260110
DTEND;VALUE=DATE:20260111
SUMMARY:Kašpárkovské matlohrátky - zimní
DESCRIPTION:Objevování zimy všemi smysly. Tentokrát se sejdeme odpoledne.
LOCATION:Rosice
END:VEVENT
END:VCALENDAR