BEGIN:VCALENDAR
VERSION:2.0
CALSCALE:GREGORIAN
PRODID:-//MyApp//Calendar 1.0//EN
BEGIN:VEVENT
METHOD:PUBLISH
UID:6072@regionalniportaly.cz
DTSTAMP:20260421T150536Z
DTSTART;VALUE=DATE:20160322
DTEND;VALUE=DATE:20160323
SUMMARY:Odemkání zahrady a vynášení Morény
DESCRIPTION:
LOCATION:Velká Bíteš
END:VEVENT
END:VCALENDAR