BEGIN:VCALENDAR
VERSION:2.0
CALSCALE:GREGORIAN
PRODID:-//MyApp//Calendar 1.0//EN
BEGIN:VEVENT
METHOD:PUBLISH
UID:60509@regionalniportaly.cz
DTSTAMP:20260422T210330Z
DTSTART;VALUE=DATE:20251126
DTEND;VALUE=DATE:20251127
SUMMARY:Adventní relaxace s automatickou kresbou
DESCRIPTION:🖍️ Už pozítří v Rosicích! \n \n🧡 Srdečně zvu všechny\, kteří chtějí aktivně relaxovat s pastelkami a poznat blíž automatickou kresbu a její uvolňující techniky 🖍️\n \nPojďme si zpříjemnit poslední listopadové dny a načerpat pozitivní energii na adventní čas ☕🙂\n \n❗SLEVA 100\,- při přihlášení do zítřejší půlnoci (tzn. do 23:59 v úterý 25. listopadu) ❗\n \n🎨 Chybička se vloudila a já zapomněla rozšířit pozvánku na středeční úžasnou relaxační dvouhodinovku 🤦 \n \n🖌️ Za chyby se platí\, ale vy teď mojí chybou můžete jen získat! A to za symbolický příspěvek 50\,-!!!\n \n☕ Pojďme se poznat\, hodit svoji každodennost za hlavu\, uvolnit se a jako bonus se naučit super jednoduché a funkční techniky z automatické kresby. Znáš ji? Skvělé! Neznáš? Nevadí! Poznáme ji společně 😉\n \n🖍️ S sebou si vezměte jen chuť objevovat nové\, pro pohodlí přezůvky (nemusí být) a pokud máte své oblíbené pastelky\, vezměte i je (budou ale také k dispozici). \n \n💛 "Umět kreslit" není potřeba\, technika automatické kresby je postavená na jiném přístupu 😉 Všechno si ukážeme a naučíme tak\, aby vše bylo pochopitelné a jednoduše použitelné pokaždé\, kdy se nám to hodí 🙂\n \nMoc se těším na společnou pohodu s pastelkami 🧡\n \nLiba \n+420 776 406 852
LOCATION:Rosice
END:VEVENT
END:VCALENDAR