BEGIN:VCALENDAR
VERSION:2.0
CALSCALE:GREGORIAN
PRODID:-//MyApp//Calendar 1.0//EN
BEGIN:VEVENT
METHOD:PUBLISH
UID:60480@regionalniportaly.cz
DTSTAMP:20260422T175301Z
DTSTART;VALUE=DATE:20251212
DTEND;VALUE=DATE:20251213
SUMMARY:Standova tvořivá dílna - krmítko
DESCRIPTION:Zima už o sobě dává vědět\, proto je dobré myslet i na ptáčky a vyrobit jim dřevěné krmítko.
LOCATION:Rosice
END:VEVENT
END:VCALENDAR