BEGIN:VCALENDAR
VERSION:2.0
CALSCALE:GREGORIAN
PRODID:-//MyApp//Calendar 1.0//EN
BEGIN:VEVENT
METHOD:PUBLISH
UID:60393@regionalniportaly.cz
DTSTAMP:20260422T155908Z
DTSTART;VALUE=DATE:20251214
DTEND;VALUE=DATE:20251215
SUMMARY:pravidelné Rodinné systemické konstelace v Rosicích
DESCRIPTION:Rodinné systemické konstelace v Rosicích u BrnaMožná si někdy říkáš:„Proč se mi to pořád opakuje?“„Proč mě to tak bolí?“„Kdy a kde jsem se vlastně ztratil/a?“\n \nV konstelacích na tyto otázky nehledáme odpověď hlavou.Příběh se ukáže v tichu. V pohybu. V pocitu. V konstelačním poli.👉 Můžeš si postavit vlastní konstelaci.👉 Nebo být zástupcem a přesto prožít něco důležitého.\nV malé skupině vzniká bezpečný\, laskavý prostor\, kde i to\, co bylo dlouho neviditelné\, dostává nový smysl.\n \n📅 Neděle 14.prosince 2025 | 13:00–19:30📍 Rosice u Brna – Rahmův dům (Palackého náměstí 46)🎟 Cena: 1400 Kč (stavění vlastní konstelace) / 1000 Kč (účast jako zástupce)✨ Kapacita je omezená\, pracujeme ve skupině max. 11 lidí. Zbývají poslední 2 místa na postavení vlastní konstelace.\n \n📩 Přihlášení a více info: https://katerinasilarova.cz/objednavkovy-formular-rodinne-konstelace/\n \nTěším se na tebe 💛Katy
LOCATION:Rosice
END:VEVENT
END:VCALENDAR