BEGIN:VCALENDAR
VERSION:2.0
CALSCALE:GREGORIAN
PRODID:-//MyApp//Calendar 1.0//EN
BEGIN:VEVENT
METHOD:PUBLISH
UID:60392@regionalniportaly.cz
DTSTAMP:20260422T225439Z
DTSTART;VALUE=DATE:20251129
DTEND;VALUE=DATE:20251130
SUMMARY:Výtvarná dílna pro děti s rodiči
DESCRIPTION:Dílna je určena pro děti od 1\,5 roku s rodiči nebo samostatně tvořící školní děti. V ateliéru SVČ vyzkoušíme tři výtvarné techniky a domů si odnesete inspiraci na hravé tvoření se svými dětmi.\n \nTermín: sobota 29. 11. 2025 od 9.00 do 11.00 hodinCena: ZDARMA. Financováno z projektu Šablony OP JAKMísto: SVČ Rubiko - Žerotínovo náměstí 1\, RosiceUrčeno pro: dílna je určena pro děti od 1\,5 roku s rodiči nebo samostatně tvořící školní dětiPřihlašování: Klientské centrumKontakt na garanta akce: Lenka Jílková\, jilkova@svcrosice.cz
LOCATION:Rosice
END:VEVENT
END:VCALENDAR