BEGIN:VCALENDAR
VERSION:2.0
CALSCALE:GREGORIAN
PRODID:-//MyApp//Calendar 1.0//EN
BEGIN:VEVENT
METHOD:PUBLISH
UID:60251@regionalniportaly.cz
DTSTAMP:20260424T111524Z
DTSTART;VALUE=DATE:20251205
DTEND;VALUE=DATE:20251206
SUMMARY:Mikuláš pro nejmenší
DESCRIPTION:Mikuláš s andělem a veselými čerty bude s dětmi zpívat a tancovat na Kašpárkovské zahradě.\nRezervace budou spuštěny 24.11.
LOCATION:Rosice
END:VEVENT
END:VCALENDAR