BEGIN:VCALENDAR
VERSION:2.0
CALSCALE:GREGORIAN
PRODID:-//MyApp//Calendar 1.0//EN
BEGIN:VEVENT
METHOD:PUBLISH
UID:60220@regionalniportaly.cz
DTSTAMP:20260424T111533Z
DTSTART;VALUE=DATE:20251210
DTEND;VALUE=DATE:20251211
SUMMARY:Beseda s dětskou fyzioložkou
DESCRIPTION:Miminko má posilovnu doma. Na dece\, na pevné a teplé podložce. V bezpečí. Na stejném místě\, kde jsou i objevitelské výzvy. \nPokud si donesete pohodlné oblečení a karimatku\, zažijete si to na sobě právě tak\, vrátíte se do kojeneckých let 🙂 \nBesedou nás provede MUDr. Slávka Kozlová\, rehabilitační lékařka
LOCATION:Rosice
END:VEVENT
END:VCALENDAR