BEGIN:VCALENDAR
VERSION:2.0
CALSCALE:GREGORIAN
PRODID:-//MyApp//Calendar 1.0//EN
BEGIN:VEVENT
METHOD:PUBLISH
UID:60178@regionalniportaly.cz
DTSTAMP:20260422T225416Z
DTSTART;VALUE=DATE:20251114
DTEND;VALUE=DATE:20251115
SUMMARY:Severní pohádka
DESCRIPTION:
LOCATION:Zbýšov
END:VEVENT
END:VCALENDAR